BEGIN:VCALENDAR
VERSION:2.0
PRODID:-//Stateline SDA Church - ECPv6.15.16//NONSGML v1.0//EN
CALSCALE:GREGORIAN
METHOD:PUBLISH
X-WR-CALNAME:Stateline SDA Church
X-ORIGINAL-URL:https://statelinesda.org
X-WR-CALDESC:Events for Stateline SDA Church
REFRESH-INTERVAL;VALUE=DURATION:PT1H
X-Robots-Tag:noindex
X-PUBLISHED-TTL:PT1H
BEGIN:VTIMEZONE
TZID:America/Los_Angeles
BEGIN:DAYLIGHT
TZOFFSETFROM:-0800
TZOFFSETTO:-0700
TZNAME:PDT
DTSTART:20220313T100000
END:DAYLIGHT
BEGIN:STANDARD
TZOFFSETFROM:-0700
TZOFFSETTO:-0800
TZNAME:PST
DTSTART:20221106T090000
END:STANDARD
BEGIN:DAYLIGHT
TZOFFSETFROM:-0800
TZOFFSETTO:-0700
TZNAME:PDT
DTSTART:20230312T100000
END:DAYLIGHT
BEGIN:STANDARD
TZOFFSETFROM:-0700
TZOFFSETTO:-0800
TZNAME:PST
DTSTART:20231105T090000
END:STANDARD
BEGIN:DAYLIGHT
TZOFFSETFROM:-0800
TZOFFSETTO:-0700
TZNAME:PDT
DTSTART:20240310T100000
END:DAYLIGHT
BEGIN:STANDARD
TZOFFSETFROM:-0700
TZOFFSETTO:-0800
TZNAME:PST
DTSTART:20241103T090000
END:STANDARD
BEGIN:DAYLIGHT
TZOFFSETFROM:-0800
TZOFFSETTO:-0700
TZNAME:PDT
DTSTART:20250309T100000
END:DAYLIGHT
BEGIN:STANDARD
TZOFFSETFROM:-0700
TZOFFSETTO:-0800
TZNAME:PST
DTSTART:20251102T090000
END:STANDARD
END:VTIMEZONE
BEGIN:VEVENT
DTSTART;TZID=America/Los_Angeles:20240508T183000
DTEND;TZID=America/Los_Angeles:20240508T193000
DTSTAMP:20260423T040126
CREATED:20240314T001942Z
LAST-MODIFIED:20240314T001942Z
UID:3979-1715193000-1715196600@statelinesda.org
SUMMARY:Laura Williams Concert
DESCRIPTION:
URL:https://statelinesda.org/event/laura-williams-concert/
LOCATION:Stateline SDA\, 53730 Stateline Rd\, Milton-Freewater\, OR\, 97862\, United States
ORGANIZER;CN="Pastor James Ash":MAILTO:james@statelinesda.org
END:VEVENT
BEGIN:VEVENT
DTSTART;TZID=America/Los_Angeles:20231014T183000
DTEND;TZID=America/Los_Angeles:20231104T200000
DTSTAMP:20260423T040126
CREATED:20230713T004924Z
LAST-MODIFIED:20231010T214436Z
UID:3685-1697308200-1699128000@statelinesda.org
SUMMARY:Prophecy Unsealed
DESCRIPTION:Watch Here! \nAn intelligent look at bible prophecy and end time events by Brian McMahon. \n﻿
URL:https://statelinesda.org/event/prophecy-unsealed/
LOCATION:Stateline SDA\, 53730 Stateline Rd\, Milton-Freewater\, OR\, 97862\, United States
ORGANIZER;CN="Pastor James Ash":MAILTO:james@statelinesda.org
END:VEVENT
BEGIN:VEVENT
DTSTART;TZID=America/Los_Angeles:20230721T183000
DTEND;TZID=America/Los_Angeles:20230722T210000
DTSTAMP:20260423T040126
CREATED:20230701T011854Z
LAST-MODIFIED:20230726T032509Z
UID:3667-1689964200-1690059600@statelinesda.org
SUMMARY:When Tyranny Returns
DESCRIPTION:When Tyranny Returns is a weekend seminar that will discuss Liberty of Conscience in the Postmodern era. Come and join us in person or watch the Livestream on our YouTube channel Stateline Advent Media\, or here on our website. \nWatch The Livestream! \n\nFriday – 6:30 p.m.\n\nThe God-given Right of Dissent \nA Biblical discussion of the right of dissent\, and the limits of civil authority. \n\nFriday – 8:00 p.m.\n\nIndividual Rights – A Legacy of Blood \nAn analysis of the history\, importance and threats of a belief system that prioritizes group interests over individual rights. \n\nSabbath – 8:20 a.m.\n\nA Breath of Freedom in a Reign of Oppression \nThe founding of the United States is depicted in Revelation as a Two Horned Beast. What are these horns? How did the founding fathers view them and weave them into the Constitution and Bill of Rights?  Let history and prophecy teach and prepare us for what we are going through and what is to come. \n\nSabbath – 9:30 a.m.\n\nEchoes of the Dragon: Challenges to Liberty in the 1840s to 1890s \nThe Two Horned Beast with lamb-like horns is also described in Revelation 13 as speaking like a dragon. What does it mean to speak like a dragon? When and how did the United States speak like a dragon in the 19th century? How did the Church at that time respond to the challenges of Tyranny? How can an understanding of our history help us with similar challenges today and what we will face in the future? \n\nSabbath – 10:45 a.m\,\n\nBought With A Price \nA Presentation on the Water of Life\, The Life-giving\, Everlasting Gospel. \n\nSabbath – 3:30 p.m.\n\nThe Great Reset and the New Global Tyranny \nA discussion of current events\, the Great Reset\, the merging of corporate\, religious and political powers\, digital ID\, cashless society\, and artificial intelligence. \n\nSabbath – 6:30 p.m.\n\nGet Ready: But What Does That Look Like? \nProphetic and expected next developments\, and the things you can and should do to prepare. \n﻿
URL:https://statelinesda.org/event/when-tyranny-returns/
LOCATION:Stateline SDA\, 53730 Stateline Rd\, Milton-Freewater\, OR\, 97862\, United States
ORGANIZER;CN="Pastor James Ash":MAILTO:james@statelinesda.org
END:VEVENT
BEGIN:VEVENT
DTSTART;TZID=America/Los_Angeles:20230614T180000
DTEND;TZID=America/Los_Angeles:20230615T180000
DTSTAMP:20260423T040126
CREATED:20230607T195056Z
LAST-MODIFIED:20230607T195220Z
UID:3615-1686765600-1686852000@statelinesda.org
SUMMARY:The State Of Our World Premier Episode
DESCRIPTION:The State Of Our World is a new program that Stateline Advent Media is beginning to produce that seeks to have conversations about political and cultural issues that weigh heavily on peoples minds and hearts and provide answers from a biblical perspective of the great controversy. The premier episode with be published on our YouTube channel and here on the church website at 6pm on the 14th of June. Be sure to check out the website then to hear the discussion between our host Allan Payne and Pastor James Ash on Free Speech! \nWatch the Premier here
URL:https://statelinesda.org/event/the-state-of-our-world-premier-episode/
LOCATION:OR
END:VEVENT
BEGIN:VEVENT
DTSTART;TZID=America/Los_Angeles:20230609T190000
DTEND;TZID=America/Los_Angeles:20230610T150000
DTSTAMP:20260423T040126
CREATED:20230607T194525Z
LAST-MODIFIED:20230607T194525Z
UID:3613-1686337200-1686409200@statelinesda.org
SUMMARY:Ignited for Mission
DESCRIPTION:Ignited for Mission is an inspirational training weekend with David Hartman\, Professor in the School of Religion at Southern Adventist University. God calls His church to manifest the final and full display of His love to a broken world. Dr. Hartman will share practical suggestions on how to do that. \nThe weekend will consist of 5 meetings. \n\nFriday – 7:00 p.m.\n\nStanding In The Gap shows the power of intercessory prayer \n\nSabbath – 8:30 a.m.\n\nIgnited For Mission shows the secret of fulfilling the Gospel Commission \n\nSabbath – 9:30 a.m.\n\nImplementing Evangelism In The Local Church looks at seven practical steps on how to develop a culture of evangelism in the local church \n\nSabbath – 10:30 a.m\,\n\nWhatever It Takes highlights the inestimable value of the human soul and the imperative to share Christ with others \n\nSabbath – 2:00 p.m.\n\nHow To Attract Your Neighbors To Christ is a practical seminar on how to utilize the “3 Keys to the Heart” to attract others to Christ
URL:https://statelinesda.org/event/ignited-for-mission/
LOCATION:Stateline SDA\, 53730 Stateline Rd\, Milton-Freewater\, OR\, 97862\, United States
ORGANIZER;CN="Pastor James Ash":MAILTO:james@statelinesda.org
END:VEVENT
BEGIN:VEVENT
DTSTART;TZID=America/Los_Angeles:20230526T183000
DTEND;TZID=America/Los_Angeles:20230528T120000
DTSTAMP:20260423T040126
CREATED:20230520T021921Z
LAST-MODIFIED:20230525T211048Z
UID:3582-1685125800-1685275200@statelinesda.org
SUMMARY:Stateline SDA 75th Anniversary
DESCRIPTION:Join us as we celebrate the 75th year of the Stateline Seventh Day Adventist Church! \n  \nFriday evening \n\n\n\n7:00 – Message from former Stateline Pastor Owen Bandy in the Sanctuary followed by a Musical Vespers featuring local members and friends.\n\n\n\nSabbath morning \n\n\n\n9:15 – Sabbath school led by Pastor Bandy and Stateline current Pastor James Ash\n10:45 – Church service and special message from former Stateline Pastor Mike Lambert\nBoth services will take place on the church lawn under the Sycamore trees\n\n\n\nSabbath afternoon \n\n\n\nPotluck following main church service. Outdoor seating available.\nSabbath walk or fellowship with friends following the meal.\n\n\n\nSabbath evening \n\n\n\n7:00 – Evening service featuring Stateline SDA church history and Stateline Pathfinder history followed by a Sabbath Vespers presented by Pastor Lambert\n\n\n\nSunday Morning \n\n\n\n9:00 – Breakfast will be served until about 10am when a final worship will be presented by Pastor Ash\nOpen mic for church family members to share their memories.\nFarewell and thank you for coming!\n\n\n\n﻿
URL:https://statelinesda.org/event/stateline-sda-75th-anniversary/
LOCATION:Stateline SDA\, 53730 Stateline Rd\, Milton-Freewater\, OR\, 97862\, United States
ORGANIZER;CN="Pastor James Ash":MAILTO:james@statelinesda.org
END:VEVENT
BEGIN:VEVENT
DTSTART;TZID=America/Los_Angeles:20230512T190000
DTEND;TZID=America/Los_Angeles:20230513T163000
DTSTAMP:20260423T040126
CREATED:20230505T024412Z
LAST-MODIFIED:20230505T024814Z
UID:3554-1683918000-1683995400@statelinesda.org
SUMMARY:Intimate Victory
DESCRIPTION:Michael Carducci shares his experiences and encourages others on their own personal journeys. \n 
URL:https://statelinesda.org/event/intimate-victory/
LOCATION:Stateline SDA\, 53730 Stateline Rd\, Milton-Freewater\, OR\, 97862\, United States
ORGANIZER;CN="Pastor James Ash":MAILTO:james@statelinesda.org
END:VEVENT
END:VCALENDAR