BEGIN:VCALENDAR
VERSION:2.0
PRODID:-//Stateline SDA Church - ECPv6.15.16//NONSGML v1.0//EN
CALSCALE:GREGORIAN
METHOD:PUBLISH
X-ORIGINAL-URL:https://statelinesda.org
X-WR-CALDESC:Events for Stateline SDA Church
REFRESH-INTERVAL;VALUE=DURATION:PT1H
X-Robots-Tag:noindex
X-PUBLISHED-TTL:PT1H
BEGIN:VTIMEZONE
TZID:America/Los_Angeles
BEGIN:DAYLIGHT
TZOFFSETFROM:-0800
TZOFFSETTO:-0700
TZNAME:PDT
DTSTART:20240310T100000
END:DAYLIGHT
BEGIN:STANDARD
TZOFFSETFROM:-0700
TZOFFSETTO:-0800
TZNAME:PST
DTSTART:20241103T090000
END:STANDARD
BEGIN:DAYLIGHT
TZOFFSETFROM:-0800
TZOFFSETTO:-0700
TZNAME:PDT
DTSTART:20250309T100000
END:DAYLIGHT
BEGIN:STANDARD
TZOFFSETFROM:-0700
TZOFFSETTO:-0800
TZNAME:PST
DTSTART:20251102T090000
END:STANDARD
BEGIN:DAYLIGHT
TZOFFSETFROM:-0800
TZOFFSETTO:-0700
TZNAME:PDT
DTSTART:20260308T100000
END:DAYLIGHT
BEGIN:STANDARD
TZOFFSETFROM:-0700
TZOFFSETTO:-0800
TZNAME:PST
DTSTART:20261101T090000
END:STANDARD
BEGIN:DAYLIGHT
TZOFFSETFROM:-0800
TZOFFSETTO:-0700
TZNAME:PDT
DTSTART:20270314T100000
END:DAYLIGHT
BEGIN:STANDARD
TZOFFSETFROM:-0700
TZOFFSETTO:-0800
TZNAME:PST
DTSTART:20271107T090000
END:STANDARD
END:VTIMEZONE
BEGIN:VEVENT
DTSTART;TZID=America/Los_Angeles:20250923T183000
DTEND;TZID=America/Los_Angeles:20250928T203000
DTSTAMP:20260423T040222
CREATED:20250820T192959Z
LAST-MODIFIED:20250917T214817Z
UID:4350-1758652200-1759091400@statelinesda.org
SUMMARY:Created for Fellowship Seminar
DESCRIPTION:Created for Fellowship Seminar—Jesus said He came to give us life — not just life\, but life more abundantly! Are you experiencing that abundant life today? Join Jonathan & Angela Peoples at Milton Stateline School\, Tuesday-Sunday\, Sep. 23–28\, 6:30-8 PM\, for a free relationship-building seminar. Discover practical\, Bible-based tools for healthy relationships and a more joy-filled walk with God. Individualized coaching will also be available (donation appreciated\, but don’t let that keep you away!) Discover the joy of healthy relationships! \nComing September 23-28\, 2025 to Milton Stateline School\n53565 Crockett Road\, Milton Freewater\, OR 97862 \nJohn 10:10 RSV — The thief comes only to steal and kill and destroy; I came that they may have life\, and have it abundantly. \nTuesday Sep. 23\, 6:30-8:30 PM\n(1 hour) #1. Stopping The Drama\n(1 hour) #2. Overcoming / Power Verses for Victory\nWednesday Sep. 24\, 6:30-8:30 PM\nJonathan – Identifying Emotions / Checking Fears and Tears\nAngela – Breakout: Power Verses for Victory\nThursday Sep. 25\, 6:30-8:30 PM\n(1 hour) #3. Marital Arithmetic and Spiritual Gifts\n(1 hour) Identifying Niche Qualities for Service\nFriday Sep. 26\, 6:30-7:30 PM\n(1 hour) #4. Beauty in Diversity & Breakout Event\nSunday Sep. 28\, 10:00-12:00 PM\n(1 hour) #5. Heart Talk and Team Win\n(1 hour) Breakout: Team Win \n(Topics are subject to change)
URL:https://statelinesda.org/event/created4fellowship/
LOCATION:Milton Stateline School\, 53565 W Crockett Rd\, Milton Freewater\, OR
ATTACH;FMTTYPE=image/png:https://statelinesda.org/wp-content/uploads/Created-for-Fellowship-Screenshot-3.png
END:VEVENT
BEGIN:VEVENT
DTSTART;TZID=America/Los_Angeles:20251002T183000
DTEND;TZID=America/Los_Angeles:20251025T183000
DTSTAMP:20260423T040222
CREATED:20251002T194117Z
LAST-MODIFIED:20251002T195251Z
UID:4395-1759429800-1761417000@statelinesda.org
SUMMARY:Bible Prophecy and the Coming Crisis
DESCRIPTION:Bible Prophecy & Coming Crisis — Will freedom survive? \nOctober 2-25\, 6:30 PM \nMilton Stateline School on 53565 W Crockett Rd in Milton Freewater\, OR. \nFind clear answers to these questions: \n* How can I find true peace in a world of chaos? \n* What roles does the USA play in Bible prophecy? \n* What is the mark of the beast? \n*Are current global crises signs of the end times? \nWe promise you that the Bible will be our only textbook. You will discover interesting Bible truths. These topics will speak directly about our lives today. And these 6:30 evening meetings from Oct. 2 to Oct. 25 are absolutely free! \nWatch preview trailer here:  RobKnottSeminar.com \nWe are saving a seat for you! \n 
URL:https://statelinesda.org/event/bible-prophecy-and-the-coming-crisis/
LOCATION:Milton Stateline School\, 53565 W Crockett Rd\, Milton Freewater\, OR
ATTACH;FMTTYPE=image/png:https://statelinesda.org/wp-content/uploads/Card-Front-and-Back-smaller.png
END:VEVENT
BEGIN:VEVENT
DTSTART;TZID=America/Los_Angeles:20251231T180000
DTEND;TZID=America/Los_Angeles:20251231T180000
DTSTAMP:20260423T040222
CREATED:20251219T015316Z
LAST-MODIFIED:20251219T015316Z
UID:4440-1767204000-1767204000@statelinesda.org
SUMMARY:New Year's Eve Prayer Vigil
DESCRIPTION:New Year’s Eve Prayer Vigil—Wednesday\, Dec. 31\, 6:00 PM–12:00 AM. As we close the year and step into a new one\, you are invited to a sacred evening of reflection\, gratitude\, and renewed surrender to Christ. There will be times for Scripture meditation\, quiet personal prayer\, and moments of united intercession for our church\, our families\, and our community. Let’s welcome the new year on our knees\, seeking God’s presence\, guidance\, and blessing for the journey ahead. May this be a meaningful and Spirit-filled start to 2026. Come for part of the evening or stay for the full vigil\, as the Spirit leads. Light refreshments will be served.
URL:https://statelinesda.org/event/new-years-eve-prayer-vigil/
LOCATION:Stateline SDA\, 53730 Stateline Rd\, Milton-Freewater\, OR\, 97862\, United States
END:VEVENT
BEGIN:VEVENT
DTSTART;TZID=America/Los_Angeles:20260417T160000
DTEND;TZID=America/Los_Angeles:20260419T190000
DTSTAMP:20260423T040222
CREATED:20260409T182031Z
LAST-MODIFIED:20260409T182031Z
UID:4496-1776441600-1776625200@statelinesda.org
SUMMARY:Aliens\, Angels\, and the Afterlife
DESCRIPTION:Aliens\, Angels\, and the Afterlife Seminar \nAliens\, Angels\, & the Afterlife—You are warmly invited to join us at Stateline Church! Bring your friends and neighbors\, too. Curious about UFOs\, Area 51\, and what the Bible says about it all? Join us April 17–19 for a fun\, eyeopening seminar—including UFOs Over America and Secrets of Area 51. Bring a friend—and your questions… we promise it’s out of this world! \n• Friday\, Apr. 17 at 6 PM\, UFOs Over America\, real sightings and unexplained encounters \n• Saturday\, Apr. 18 at 4 PM\, Angels Among Us\, a peek into the unseen world \n• Saturday\, Apr. 18 at 5 PM\, Secrets of Area 51\, what are they hiding? \n• Saturday\, Apr. 18\, Dinner at 6PM \n• Sunday\, Apr. 19 at 4 PM\, Aliens & the Paranormal Connection\, what are they hiding? \n• Sunday\, Apr. 19 at 5 PM\, The Afterlife Mystery\, what really happens next? \n• Sunday\, Apr. 19\, Dinner at 6 PM
URL:https://statelinesda.org/event/aliens-angels-and-the-afterlife/
LOCATION:Stateline SDA\, 53730 Stateline Rd\, Milton-Freewater\, OR\, 97862\, United States
END:VEVENT
END:VCALENDAR